BEGIN:VCALENDAR
VERSION:2.0
CALSCALE:GREGORIAN
PRODID:-//Diputació de Barcelona//DibaCMS//EN
BEGIN:VEVENT
UID:6141
DTSTAMP:20260423T081114
DTSTART:20190226T173000
DTEND:20190226T173000
SUMMARY:Taller de manualitats:Ulleres i viseres de Carnaval a càrrec de Creativa
LOCATION:
METHOD:PUBLISH
X-WR-CALNAME:ajuntament@santfost.cat
X-WR-TIMEZONE:Europe/Madrid
DESCRIPTION:
URI:https://www.santfost.cat/actualitat/agenda/taller-de-manualitatsulleres-i-viseres-de-carnaval-a-carrec-de-creativa.html
CLASS:PUBLIC
END:VEVENT
END:VCALENDAR
