BEGIN:VCALENDAR
VERSION:2.0
CALSCALE:GREGORIAN
PRODID:-//Diputació de Barcelona//DibaCMS//EN
BEGIN:VEVENT
UID:6143
DTSTAMP:20260423T040251
DTSTART:20190306T083000
DTEND:20190306T083000
SUMMARY:Sortida al Castell de perelada
LOCATION:
METHOD:PUBLISH
X-WR-CALNAME:ajuntament@santfost.cat
X-WR-TIMEZONE:Europe/Madrid
DESCRIPTION:
URI:https://www.santfost.cat/actualitat/agenda/sortida-al-castell-de-perelada.html
CLASS:PUBLIC
END:VEVENT
END:VCALENDAR
