BEGIN:VCALENDAR
VERSION:2.0
CALSCALE:GREGORIAN
PRODID:-//Diputació de Barcelona//DibaCMS//EN
BEGIN:VEVENT
UID:6146
DTSTAMP:20260423T005801
DTSTART:20190315T180000
DTEND:20190315T180000
SUMMARY:Recital Poètic "Elles tenen la Paraula"
LOCATION:
METHOD:PUBLISH
X-WR-CALNAME:ajuntament@santfost.cat
X-WR-TIMEZONE:Europe/Madrid
DESCRIPTION:
URI:https://www.santfost.cat/actualitat/agenda/recital-poetic-elles-tenen-la-paraula.html
CLASS:PUBLIC
END:VEVENT
END:VCALENDAR
