BEGIN:VCALENDAR
VERSION:2.0
CALSCALE:GREGORIAN
PRODID:-//Diputació de Barcelona//DibaCMS//EN
BEGIN:VEVENT
UID:6147
DTSTAMP:20260423T021512
DTSTART:20190322T173000
DTEND:20190322T173000
SUMMARY:Música pera nadons
LOCATION:
METHOD:PUBLISH
X-WR-CALNAME:ajuntament@santfost.cat
X-WR-TIMEZONE:Europe/Madrid
DESCRIPTION:
URI:https://www.santfost.cat/actualitat/agenda/musica-pera-nadons.html
CLASS:PUBLIC
END:VEVENT
END:VCALENDAR
