BEGIN:VCALENDAR
VERSION:2.0
CALSCALE:GREGORIAN
PRODID:-//Diputació de Barcelona//DibaCMS//EN
BEGIN:VEVENT
UID:6149
DTSTAMP:20260423T035907
DTSTART:20190404T190000
DTEND:20190404T190000
SUMMARY:club de lectura 
LOCATION:
METHOD:PUBLISH
X-WR-CALNAME:ajuntament@santfost.cat
X-WR-TIMEZONE:Europe/Madrid
DESCRIPTION:
URI:https://www.santfost.cat/actualitat/agenda/club-de-lectura-.html
CLASS:PUBLIC
END:VEVENT
END:VCALENDAR
