BEGIN:VCALENDAR
VERSION:2.0
CALSCALE:GREGORIAN
PRODID:-//Diputació de Barcelona//DibaCMS//EN
BEGIN:VEVENT
UID:6150
DTSTAMP:20260423T022543
DTSTART:20190405T223000
DTEND:20190405T223000
SUMMARY:Cicle de concerts Pop Fost- Jaime Urrutia
LOCATION:
METHOD:PUBLISH
X-WR-CALNAME:ajuntament@santfost.cat
X-WR-TIMEZONE:Europe/Madrid
DESCRIPTION:
URI:https://www.santfost.cat/actualitat/agenda/cicle-de-concerts-pop-fost-jaime-urrutia.html
CLASS:PUBLIC
END:VEVENT
END:VCALENDAR
