BEGIN:VCALENDAR
VERSION:2.0
CALSCALE:GREGORIAN
PRODID:-//Diputació de Barcelona//DibaCMS//EN
BEGIN:VEVENT
UID:6152
DTSTAMP:20260423T194509
DTSTART:20190411T000000
DTEND:20190411T000000
SUMMARY:Torneig FIFA
LOCATION:
METHOD:PUBLISH
X-WR-CALNAME:ajuntament@santfost.cat
X-WR-TIMEZONE:Europe/Madrid
DESCRIPTION:
URI:https://www.santfost.cat/actualitat/agenda/torneig-fifa.html
CLASS:PUBLIC
END:VEVENT
END:VCALENDAR
