BEGIN:VCALENDAR
VERSION:2.0
CALSCALE:GREGORIAN
PRODID:-//Diputació de Barcelona//DibaCMS//EN
BEGIN:VEVENT
UID:6153
DTSTAMP:20260422T223816
DTSTART:20190412T193000
DTEND:20190412T193000
SUMMARY:Presentació del llibre "EL PATRIMONI CULTURAL" Fem Memòria nº15 
LOCATION:
METHOD:PUBLISH
X-WR-CALNAME:ajuntament@santfost.cat
X-WR-TIMEZONE:Europe/Madrid
DESCRIPTION:
URI:https://www.santfost.cat/actualitat/agenda/presentacio-del-llibre-el-patrimoni-cultural-fem-memoria-no15-.html
CLASS:PUBLIC
END:VEVENT
END:VCALENDAR
