BEGIN:VCALENDAR
VERSION:2.0
CALSCALE:GREGORIAN
PRODID:-//Diputació de Barcelona//DibaCMS//EN
BEGIN:VEVENT
UID:6155
DTSTAMP:20260422T211919
DTSTART:20190425T190000
DTEND:20190425T190000
SUMMARY:L'essència de Sant Fost
LOCATION:
METHOD:PUBLISH
X-WR-CALNAME:ajuntament@santfost.cat
X-WR-TIMEZONE:Europe/Madrid
DESCRIPTION:
URI:https://www.santfost.cat/actualitat/agenda/6155-lessencia-de-sant-fost.html
CLASS:PUBLIC
END:VEVENT
END:VCALENDAR
