BEGIN:VCALENDAR
VERSION:2.0
CALSCALE:GREGORIAN
PRODID:-//Diputació de Barcelona//DibaCMS//EN
BEGIN:VEVENT
UID:6156
DTSTAMP:20260423T080334
DTSTART:20190425T160000
DTEND:20190425T160000
SUMMARY:JORNADA DE PORTES OBERTES
LOCATION:
METHOD:PUBLISH
X-WR-CALNAME:ajuntament@santfost.cat
X-WR-TIMEZONE:Europe/Madrid
DESCRIPTION:
URI:https://www.santfost.cat/actualitat/agenda/6156-jornada-de-portes-obertes.html
CLASS:PUBLIC
END:VEVENT
END:VCALENDAR
