BEGIN:VCALENDAR
VERSION:2.0
CALSCALE:GREGORIAN
PRODID:-//Diputació de Barcelona//DibaCMS//EN
BEGIN:VEVENT
UID:6158
DTSTAMP:20260422T155037
DTSTART:20190504T000000
DTEND:20190504T000000
SUMMARY:Taller:com fer realitat els teus propòsits?
LOCATION:
METHOD:PUBLISH
X-WR-CALNAME:ajuntament@santfost.cat
X-WR-TIMEZONE:Europe/Madrid
DESCRIPTION:
URI:https://www.santfost.cat/actualitat/agenda/tallercom-fer-realitat-els-teus-proposits.html
CLASS:PUBLIC
END:VEVENT
END:VCALENDAR
