BEGIN:VCALENDAR
VERSION:2.0
CALSCALE:GREGORIAN
PRODID:-//Diputació de Barcelona//DibaCMS//EN
BEGIN:VEVENT
UID:6159
DTSTAMP:20260423T005730
DTSTART:20190504T200000
DTEND:20190504T200000
SUMMARY:Nit de l'esport
LOCATION:
METHOD:PUBLISH
X-WR-CALNAME:ajuntament@santfost.cat
X-WR-TIMEZONE:Europe/Madrid
DESCRIPTION:
URI:https://www.santfost.cat/actualitat/agenda/6159-nit-de-lesport.html
CLASS:PUBLIC
END:VEVENT
END:VCALENDAR
