BEGIN:VCALENDAR
VERSION:2.0
CALSCALE:GREGORIAN
PRODID:-//Diputació de Barcelona//DibaCMS//EN
BEGIN:VEVENT
UID:6161
DTSTAMP:20260422T200141
DTSTART:20190511T000000
DTEND:20190511T000000
SUMMARY:Festival de música per a la mainada
LOCATION:
METHOD:PUBLISH
X-WR-CALNAME:ajuntament@santfost.cat
X-WR-TIMEZONE:Europe/Madrid
DESCRIPTION:
URI:https://www.santfost.cat/actualitat/agenda/festival-de-musica-per-a-la-mainada.html
CLASS:PUBLIC
END:VEVENT
END:VCALENDAR
