BEGIN:VCALENDAR
VERSION:2.0
CALSCALE:GREGORIAN
PRODID:-//Diputació de Barcelona//DibaCMS//EN
BEGIN:VEVENT
UID:6162
DTSTAMP:20260422T200028
DTSTART:20190512T083000
DTEND:20190512T083000
SUMMARY:22ena Caminada Popular
LOCATION:
METHOD:PUBLISH
X-WR-CALNAME:ajuntament@santfost.cat
X-WR-TIMEZONE:Europe/Madrid
DESCRIPTION:
URI:https://www.santfost.cat/actualitat/agenda/22ena-caminada-popular.html
CLASS:PUBLIC
END:VEVENT
END:VCALENDAR
