BEGIN:VCALENDAR
VERSION:2.0
CALSCALE:GREGORIAN
PRODID:-//Diputació de Barcelona//DibaCMS//EN
BEGIN:VEVENT
UID:6164
DTSTAMP:20260422T173813
DTSTART:20190521T190000
DTEND:20190521T190000
SUMMARY:xerrada:Descobrint la pedagogia Montessori
LOCATION:
METHOD:PUBLISH
X-WR-CALNAME:ajuntament@santfost.cat
X-WR-TIMEZONE:Europe/Madrid
DESCRIPTION:
URI:https://www.santfost.cat/actualitat/agenda/6164-xerradadescobrint-la-pedagogia-montessori.html
CLASS:PUBLIC
END:VEVENT
END:VCALENDAR
