BEGIN:VCALENDAR
VERSION:2.0
CALSCALE:GREGORIAN
PRODID:-//Diputació de Barcelona//DibaCMS//EN
BEGIN:VEVENT
UID:6166
DTSTAMP:20260422T223940
DTSTART:20190528T193000
DTEND:20190528T193000
SUMMARY:Inauguració de l'exposició Taller de dibuix i pintura
LOCATION:
METHOD:PUBLISH
X-WR-CALNAME:ajuntament@santfost.cat
X-WR-TIMEZONE:Europe/Madrid
DESCRIPTION:
URI:https://www.santfost.cat/actualitat/agenda/inauguracio-de-lexposicio-taller-de-dibuix-i-pintura.html
CLASS:PUBLIC
END:VEVENT
END:VCALENDAR
