BEGIN:VCALENDAR
VERSION:2.0
CALSCALE:GREGORIAN
PRODID:-//Diputació de Barcelona//DibaCMS//EN
BEGIN:VEVENT
UID:6167
DTSTAMP:20260422T200830
DTSTART:20190531T200000
DTEND:20190531T200000
SUMMARY:Supernit a les biblioteques amb el Club Super 3
LOCATION:
METHOD:PUBLISH
X-WR-CALNAME:ajuntament@santfost.cat
X-WR-TIMEZONE:Europe/Madrid
DESCRIPTION:
URI:https://www.santfost.cat/actualitat/agenda/supernit-a-les-biblioteques-amb-el-club-super-3.html
CLASS:PUBLIC
END:VEVENT
END:VCALENDAR
