BEGIN:VCALENDAR
VERSION:2.0
CALSCALE:GREGORIAN
PRODID:-//Diputació de Barcelona//DibaCMS//EN
BEGIN:VEVENT
UID:6170
DTSTAMP:20260422T212400
DTSTART:20190615T000000
DTEND:20190615T000000
SUMMARY:II Trofeu Nacional de Patinatge
LOCATION:
METHOD:PUBLISH
X-WR-CALNAME:ajuntament@santfost.cat
X-WR-TIMEZONE:Europe/Madrid
DESCRIPTION:
URI:https://www.santfost.cat/actualitat/agenda/ii-trofeu-nacional-de-patinatge.html
CLASS:PUBLIC
END:VEVENT
END:VCALENDAR
