BEGIN:VCALENDAR
VERSION:2.0
CALSCALE:GREGORIAN
PRODID:-//Diputació de Barcelona//DibaCMS//EN
BEGIN:VEVENT
UID:6171
DTSTAMP:20260422T230249
DTSTART:20190615T173000
DTEND:20190615T173000
SUMMARY:Espectacle Bruixeria Musical
LOCATION:
METHOD:PUBLISH
X-WR-CALNAME:ajuntament@santfost.cat
X-WR-TIMEZONE:Europe/Madrid
DESCRIPTION:
URI:https://www.santfost.cat/actualitat/agenda/espectacle-bruixeria-musical.html
CLASS:PUBLIC
END:VEVENT
END:VCALENDAR
