BEGIN:VCALENDAR
VERSION:2.0
CALSCALE:GREGORIAN
PRODID:-//Diputació de Barcelona//DibaCMS//EN
BEGIN:VEVENT
UID:6174
DTSTAMP:20260422T230459
DTSTART:20190616T113000
DTEND:20190616T113000
SUMMARY:Dia del Teatre Infantil
LOCATION:
METHOD:PUBLISH
X-WR-CALNAME:ajuntament@santfost.cat
X-WR-TIMEZONE:Europe/Madrid
DESCRIPTION:
URI:https://www.santfost.cat/actualitat/agenda/dia-del-teatre-infantil.html
CLASS:PUBLIC
END:VEVENT
END:VCALENDAR
