BEGIN:VCALENDAR
VERSION:2.0
CALSCALE:GREGORIAN
PRODID:-//Diputació de Barcelona//DibaCMS//EN
BEGIN:VEVENT
UID:6175
DTSTAMP:20260422T213645
DTSTART:20190616T173000
DTEND:20190616T173000
SUMMARY:Fi de curs de l'Agrupació Sardanista l'Alba del Vallès, Ball de bastons, Gegants i Sardanes
LOCATION:
METHOD:PUBLISH
X-WR-CALNAME:ajuntament@santfost.cat
X-WR-TIMEZONE:Europe/Madrid
DESCRIPTION:
URI:https://www.santfost.cat/actualitat/agenda/fi-de-curs-de-lagrupacio-sardanista-lalba-del-valles-ball-de-bastons-gegants-i-sardanes.html
CLASS:PUBLIC
END:VEVENT
END:VCALENDAR
