BEGIN:VCALENDAR
VERSION:2.0
CALSCALE:GREGORIAN
PRODID:-//Diputació de Barcelona//DibaCMS//EN
BEGIN:VEVENT
UID:6177
DTSTAMP:20260422T224942
DTSTART:20190622T110000
DTEND:20190622T110000
SUMMARY:Taller de cuina
LOCATION:
METHOD:PUBLISH
X-WR-CALNAME:ajuntament@santfost.cat
X-WR-TIMEZONE:Europe/Madrid
DESCRIPTION:
URI:https://www.santfost.cat/actualitat/agenda/taller-de-cuina.html
CLASS:PUBLIC
END:VEVENT
END:VCALENDAR
