BEGIN:VCALENDAR
VERSION:2.0
CALSCALE:GREGORIAN
PRODID:-//Diputació de Barcelona//DibaCMS//EN
BEGIN:VEVENT
UID:6178
DTSTAMP:20260422T224042
DTSTART:20190623T213000
DTEND:20190623T213000
SUMMARY:Revetlla de Sant Joan - Ball i Botifarrada Popular
LOCATION:
METHOD:PUBLISH
X-WR-CALNAME:ajuntament@santfost.cat
X-WR-TIMEZONE:Europe/Madrid
DESCRIPTION:
URI:https://www.santfost.cat/actualitat/agenda/revetlla-de-sant-joan-ball-i-botifarrada-popular.html
CLASS:PUBLIC
END:VEVENT
END:VCALENDAR
