BEGIN:VCALENDAR
VERSION:2.0
CALSCALE:GREGORIAN
PRODID:-//Diputació de Barcelona//DibaCMS//EN
BEGIN:VEVENT
UID:6179
DTSTAMP:20260422T231259
DTSTART:20190623T220000
DTEND:20190623T220000
SUMMARY:Revetlla de Sant Joan - Exhibició del grup de Ball de Saló
LOCATION:
METHOD:PUBLISH
X-WR-CALNAME:ajuntament@santfost.cat
X-WR-TIMEZONE:Europe/Madrid
DESCRIPTION:
URI:https://www.santfost.cat/actualitat/agenda/revetlla-de-sant-joan-exhibicio-del-grup-de-ball-de-salo.html
CLASS:PUBLIC
END:VEVENT
END:VCALENDAR
