BEGIN:VCALENDAR
VERSION:2.0
CALSCALE:GREGORIAN
PRODID:-//Diputació de Barcelona//DibaCMS//EN
BEGIN:VEVENT
UID:6180
DTSTAMP:20260422T183737
DTSTART:20190628T163000
DTEND:20190628T163000
SUMMARY:Cloenda del No t'aturis
LOCATION:
METHOD:PUBLISH
X-WR-CALNAME:ajuntament@santfost.cat
X-WR-TIMEZONE:Europe/Madrid
DESCRIPTION:
URI:https://www.santfost.cat/actualitat/agenda/6180-cloenda-del-no-taturis.html
CLASS:PUBLIC
END:VEVENT
END:VCALENDAR
