BEGIN:VCALENDAR
VERSION:2.0
CALSCALE:GREGORIAN
PRODID:-//Diputació de Barcelona//DibaCMS//EN
BEGIN:VEVENT
UID:6184
DTSTAMP:20260422T212737
DTSTART:20190716T173000
DTEND:20190716T173000
SUMMARY:Màgi per a infants: Magi-k-ment
LOCATION:
METHOD:PUBLISH
X-WR-CALNAME:ajuntament@santfost.cat
X-WR-TIMEZONE:Europe/Madrid
DESCRIPTION:
URI:https://www.santfost.cat/actualitat/agenda/magi-per-a-infants-magi-k-ment.html
CLASS:PUBLIC
END:VEVENT
END:VCALENDAR
