BEGIN:VCALENDAR
VERSION:2.0
CALSCALE:GREGORIAN
PRODID:-//Diputació de Barcelona//DibaCMS//EN
BEGIN:VEVENT
UID:6185
DTSTAMP:20260422T200213
DTSTART:20190718T000000
DTEND:20190718T000000
SUMMARY:Aqualia informa de tall de subministrament d'aigua per avaria
LOCATION:
METHOD:PUBLISH
X-WR-CALNAME:ajuntament@santfost.cat
X-WR-TIMEZONE:Europe/Madrid
DESCRIPTION:
URI:https://www.santfost.cat/actualitat/agenda/aqualia-informa-de-tall-de-subministrament-daigua-per-avaria.html
CLASS:PUBLIC
END:VEVENT
END:VCALENDAR
