BEGIN:VCALENDAR
VERSION:2.0
CALSCALE:GREGORIAN
PRODID:-//Diputació de Barcelona//DibaCMS//EN
BEGIN:VEVENT
UID:6187
DTSTAMP:20260423T040129
DTSTART:20190911T104500
DTEND:20190911T104500
SUMMARY:Diada de Catalunya
LOCATION:
METHOD:PUBLISH
X-WR-CALNAME:ajuntament@santfost.cat
X-WR-TIMEZONE:Europe/Madrid
DESCRIPTION:
URI:https://www.santfost.cat/actualitat/agenda/6187-diada-de-catalunya.html
CLASS:PUBLIC
END:VEVENT
END:VCALENDAR
