BEGIN:VCALENDAR
VERSION:2.0
CALSCALE:GREGORIAN
PRODID:-//Diputació de Barcelona//DibaCMS//EN
BEGIN:VEVENT
UID:6188
DTSTAMP:20260423T195437
DTSTART:20190918T000000
DTEND:20190918T000000
SUMMARY:Exposició Cuida't les dents
LOCATION:
METHOD:PUBLISH
X-WR-CALNAME:ajuntament@santfost.cat
X-WR-TIMEZONE:Europe/Madrid
DESCRIPTION:
URI:https://www.santfost.cat/actualitat/agenda/6188-exposicio-cuidat-les-dents.html
CLASS:PUBLIC
END:VEVENT
END:VCALENDAR
