BEGIN:VCALENDAR
VERSION:2.0
CALSCALE:GREGORIAN
PRODID:-//Diputació de Barcelona//DibaCMS//EN
BEGIN:VEVENT
UID:6189
DTSTAMP:20260422T205606
DTSTART:20190921T000000
DTEND:20190921T000000
SUMMARY:Torneig d'Handbol Memomorial Julio Murciano 
LOCATION:
METHOD:PUBLISH
X-WR-CALNAME:ajuntament@santfost.cat
X-WR-TIMEZONE:Europe/Madrid
DESCRIPTION:
URI:https://www.santfost.cat/actualitat/agenda/torneig-dhandbol-memomorial-julio-murciano-.html
CLASS:PUBLIC
END:VEVENT
END:VCALENDAR
