BEGIN:VCALENDAR
VERSION:2.0
CALSCALE:GREGORIAN
PRODID:-//Diputació de Barcelona//DibaCMS//EN
BEGIN:VEVENT
UID:6190
DTSTAMP:20260423T005852
DTSTART:20190921T000000
DTEND:20190921T000000
SUMMARY:Festa de la Verema 
LOCATION:
METHOD:PUBLISH
X-WR-CALNAME:ajuntament@santfost.cat
X-WR-TIMEZONE:Europe/Madrid
DESCRIPTION:
URI:https://www.santfost.cat/actualitat/agenda/festa-de-la-verema-.html
CLASS:PUBLIC
END:VEVENT
END:VCALENDAR
