BEGIN:VCALENDAR
VERSION:2.0
CALSCALE:GREGORIAN
PRODID:-//Diputació de Barcelona//DibaCMS//EN
BEGIN:VEVENT
UID:6191
DTSTAMP:20260422T221841
DTSTART:20190922T091500
DTEND:20190922T091500
SUMMARY:33a Cursa de Cabanyes 
LOCATION:
METHOD:PUBLISH
X-WR-CALNAME:ajuntament@santfost.cat
X-WR-TIMEZONE:Europe/Madrid
DESCRIPTION:
URI:https://www.santfost.cat/actualitat/agenda/33a-cursa-de-cabanyes-.html
CLASS:PUBLIC
END:VEVENT
END:VCALENDAR
