BEGIN:VCALENDAR
VERSION:2.0
CALSCALE:GREGORIAN
PRODID:-//Diputació de Barcelona//DibaCMS//EN
BEGIN:VEVENT
UID:6193
DTSTAMP:20260423T081149
DTSTART:20190928T000000
DTEND:20190928T000000
SUMMARY:Festes del Patró
LOCATION:
METHOD:PUBLISH
X-WR-CALNAME:ajuntament@santfost.cat
X-WR-TIMEZONE:Europe/Madrid
DESCRIPTION:
URI:https://www.santfost.cat/actualitat/agenda/6193-festes-del-patro.html
CLASS:PUBLIC
END:VEVENT
END:VCALENDAR
