BEGIN:VCALENDAR
VERSION:2.0
CALSCALE:GREGORIAN
PRODID:-//Diputació de Barcelona//DibaCMS//EN
BEGIN:VEVENT
UID:6195
DTSTAMP:20260424T041501
DTSTART:20191001T000000
DTEND:20191001T000000
SUMMARY:Actes commemoratius de l'1 d'octubre de 2017
LOCATION:
METHOD:PUBLISH
X-WR-CALNAME:ajuntament@santfost.cat
X-WR-TIMEZONE:Europe/Madrid
DESCRIPTION:
URI:https://www.santfost.cat/actualitat/agenda/actes-commemoratius-de-l1-doctubre-de-2017.html
CLASS:PUBLIC
END:VEVENT
END:VCALENDAR
