BEGIN:VCALENDAR
VERSION:2.0
CALSCALE:GREGORIAN
PRODID:-//Diputació de Barcelona//DibaCMS//EN
BEGIN:VEVENT
UID:6200
DTSTAMP:20260422T185618
DTSTART:20191013T180000
DTEND:20191013T180000
SUMMARY:40a Mostra de Teatre
LOCATION:
METHOD:PUBLISH
X-WR-CALNAME:ajuntament@santfost.cat
X-WR-TIMEZONE:Europe/Madrid
DESCRIPTION:
URI:https://www.santfost.cat/actualitat/agenda/6200-40a-mostra-de-teatre.html
CLASS:PUBLIC
END:VEVENT
END:VCALENDAR
