BEGIN:VCALENDAR
VERSION:2.0
CALSCALE:GREGORIAN
PRODID:-//Diputació de Barcelona//DibaCMS//EN
BEGIN:VEVENT
UID:6201
DTSTAMP:20260422T171011
DTSTART:20191013T000000
DTEND:20191013T000000
SUMMARY:30a Trobada de Penyes del Vallès
LOCATION:
METHOD:PUBLISH
X-WR-CALNAME:ajuntament@santfost.cat
X-WR-TIMEZONE:Europe/Madrid
DESCRIPTION:
URI:https://www.santfost.cat/actualitat/agenda/30a-trobada-de-penyes-del-valles.html
CLASS:PUBLIC
END:VEVENT
END:VCALENDAR
