BEGIN:VCALENDAR
VERSION:2.0
CALSCALE:GREGORIAN
PRODID:-//Diputació de Barcelona//DibaCMS//EN
BEGIN:VEVENT
UID:6202
DTSTAMP:20260422T183815
DTSTART:20191018T200000
DTEND:20191018T200000
SUMMARY:Centenari de la Colònia Bosc
LOCATION:
METHOD:PUBLISH
X-WR-CALNAME:ajuntament@santfost.cat
X-WR-TIMEZONE:Europe/Madrid
DESCRIPTION:
URI:https://www.santfost.cat/actualitat/agenda/centenari-de-la-colonia-bosc.html
CLASS:PUBLIC
END:VEVENT
END:VCALENDAR
