BEGIN:VCALENDAR
VERSION:2.0
CALSCALE:GREGORIAN
PRODID:-//Diputació de Barcelona//DibaCMS//EN
BEGIN:VEVENT
UID:6206
DTSTAMP:20260422T142204
DTSTART:20191020T000000
DTEND:20191020T000000
SUMMARY:Presentació equips temporada 2019/20
LOCATION:
METHOD:PUBLISH
X-WR-CALNAME:ajuntament@santfost.cat
X-WR-TIMEZONE:Europe/Madrid
DESCRIPTION:
URI:https://www.santfost.cat/actualitat/agenda/presentacio-equips-temporada-201920.html
CLASS:PUBLIC
END:VEVENT
END:VCALENDAR
