BEGIN:VCALENDAR
VERSION:2.0
CALSCALE:GREGORIAN
PRODID:-//Diputació de Barcelona//DibaCMS//EN
BEGIN:VEVENT
UID:6207
DTSTAMP:20260422T185926
DTSTART:20191020T000000
DTEND:20191020T000000
SUMMARY:Mercat de segona mà
LOCATION:
METHOD:PUBLISH
X-WR-CALNAME:ajuntament@santfost.cat
X-WR-TIMEZONE:Europe/Madrid
DESCRIPTION:
URI:https://www.santfost.cat/actualitat/agenda/mercat-de-segona-ma.html
CLASS:PUBLIC
END:VEVENT
END:VCALENDAR
