BEGIN:VCALENDAR
VERSION:2.0
CALSCALE:GREGORIAN
PRODID:-//Diputació de Barcelona//DibaCMS//EN
BEGIN:VEVENT
UID:6209
DTSTAMP:20260422T153507
DTSTART:20191025T173000
DTEND:20191025T173000
SUMMARY:Bibliolab: Jocs de ciència
LOCATION:
METHOD:PUBLISH
X-WR-CALNAME:ajuntament@santfost.cat
X-WR-TIMEZONE:Europe/Madrid
DESCRIPTION:
URI:https://www.santfost.cat/actualitat/agenda/bibliolab-jocs-de-ciencia.html
CLASS:PUBLIC
END:VEVENT
END:VCALENDAR
