BEGIN:VCALENDAR
VERSION:2.0
CALSCALE:GREGORIAN
PRODID:-//Diputació de Barcelona//DibaCMS//EN
BEGIN:VEVENT
UID:6212
DTSTAMP:20260422T142316
DTSTART:20191031T223000
DTEND:20191031T223000
SUMMARY:Projecció de la pel·lícula 'La Monja'
LOCATION:
METHOD:PUBLISH
X-WR-CALNAME:ajuntament@santfost.cat
X-WR-TIMEZONE:Europe/Madrid
DESCRIPTION:
URI:https://www.santfost.cat/actualitat/agenda/projeccio-de-la-pellicula-la-monja.html
CLASS:PUBLIC
END:VEVENT
END:VCALENDAR
