BEGIN:VCALENDAR
VERSION:2.0
CALSCALE:GREGORIAN
PRODID:-//Diputació de Barcelona//DibaCMS//EN
BEGIN:VEVENT
UID:6214
DTSTAMP:20260422T212829
DTSTART:20191105T000000
DTEND:20191105T000000
SUMMARY:Exposició 'Menja bé, tu hi guanyes'
LOCATION:
METHOD:PUBLISH
X-WR-CALNAME:ajuntament@santfost.cat
X-WR-TIMEZONE:Europe/Madrid
DESCRIPTION:
URI:https://www.santfost.cat/actualitat/agenda/exposicio-menja-be-tu-hi-guanyes.html
CLASS:PUBLIC
END:VEVENT
END:VCALENDAR
