BEGIN:VCALENDAR
VERSION:2.0
CALSCALE:GREGORIAN
PRODID:-//Diputació de Barcelona//DibaCMS//EN
BEGIN:VEVENT
UID:6215
DTSTAMP:20260422T225206
DTSTART:20191106T173000
DTEND:20191106T173000
SUMMARY:Primer torneig FIFA20
LOCATION:
METHOD:PUBLISH
X-WR-CALNAME:ajuntament@santfost.cat
X-WR-TIMEZONE:Europe/Madrid
DESCRIPTION:
URI:https://www.santfost.cat/actualitat/agenda/primer-torneig-fifa20.html
CLASS:PUBLIC
END:VEVENT
END:VCALENDAR
