BEGIN:VCALENDAR
VERSION:2.0
CALSCALE:GREGORIAN
PRODID:-//Diputació de Barcelona//DibaCMS//EN
BEGIN:VEVENT
UID:6217
DTSTAMP:20260422T200547
DTSTART:20191110T110000
DTEND:20191110T110000
SUMMARY:Recital de música Gospel
LOCATION:
METHOD:PUBLISH
X-WR-CALNAME:ajuntament@santfost.cat
X-WR-TIMEZONE:Europe/Madrid
DESCRIPTION:
URI:https://www.santfost.cat/actualitat/agenda/recital-de-musica-gospel.html
CLASS:PUBLIC
END:VEVENT
END:VCALENDAR
