BEGIN:VCALENDAR
VERSION:2.0
CALSCALE:GREGORIAN
PRODID:-//Diputació de Barcelona//DibaCMS//EN
BEGIN:VEVENT
UID:6218
DTSTAMP:20260422T213717
DTSTART:20191114T000000
DTEND:20191114T000000
SUMMARY:Jornada de Defensa Personal per a dones
LOCATION:
METHOD:PUBLISH
X-WR-CALNAME:ajuntament@santfost.cat
X-WR-TIMEZONE:Europe/Madrid
DESCRIPTION:
URI:https://www.santfost.cat/actualitat/agenda/6218-jornada-de-defensa-personal-per-a-dones.html
CLASS:PUBLIC
END:VEVENT
END:VCALENDAR
