BEGIN:VCALENDAR
VERSION:2.0
CALSCALE:GREGORIAN
PRODID:-//Diputació de Barcelona//DibaCMS//EN
BEGIN:VEVENT
UID:6221
DTSTAMP:20260422T145515
DTSTART:20191117T180000
DTEND:20191117T180000
SUMMARY:Magicomic (l'antiestrès), espectacle de màgia familiar
LOCATION:
METHOD:PUBLISH
X-WR-CALNAME:ajuntament@santfost.cat
X-WR-TIMEZONE:Europe/Madrid
DESCRIPTION:
URI:https://www.santfost.cat/actualitat/agenda/magicomic-lantiestres-espectacle-de-magia-familiar.html
CLASS:PUBLIC
END:VEVENT
END:VCALENDAR
