BEGIN:VCALENDAR
VERSION:2.0
CALSCALE:GREGORIAN
PRODID:-//Diputació de Barcelona//DibaCMS//EN
BEGIN:VEVENT
UID:6222
DTSTAMP:20260422T205646
DTSTART:20191119T170000
DTEND:20191119T170000
SUMMARY:Contes per a nadons a la biblioteca
LOCATION:
METHOD:PUBLISH
X-WR-CALNAME:ajuntament@santfost.cat
X-WR-TIMEZONE:Europe/Madrid
DESCRIPTION:
URI:https://www.santfost.cat/actualitat/agenda/contes-per-a-nadons-a-la-biblioteca.html
CLASS:PUBLIC
END:VEVENT
END:VCALENDAR
