BEGIN:VCALENDAR
VERSION:2.0
CALSCALE:GREGORIAN
PRODID:-//Diputació de Barcelona//DibaCMS//EN
BEGIN:VEVENT
UID:6223
DTSTAMP:20260422T200044
DTSTART:20191120T180000
DTEND:20191120T180000
SUMMARY:Presentació del llibre 'Caminar quiet', d'Ã€lex Letosa
LOCATION:
METHOD:PUBLISH
X-WR-CALNAME:ajuntament@santfost.cat
X-WR-TIMEZONE:Europe/Madrid
DESCRIPTION:
URI:https://www.santfost.cat/actualitat/agenda/presentacio-del-llibre-caminar-quiet-deurlex-letosa.html
CLASS:PUBLIC
END:VEVENT
END:VCALENDAR
