BEGIN:VCALENDAR
VERSION:2.0
CALSCALE:GREGORIAN
PRODID:-//Diputació de Barcelona//DibaCMS//EN
BEGIN:VEVENT
UID:6224
DTSTAMP:20260422T132507
DTSTART:20191123T170000
DTEND:20191123T170000
SUMMARY:Espectacle infantil: '1MMLikes'
LOCATION:
METHOD:PUBLISH
X-WR-CALNAME:ajuntament@santfost.cat
X-WR-TIMEZONE:Europe/Madrid
DESCRIPTION:
URI:https://www.santfost.cat/actualitat/agenda/espectacle-infantil-1mmlikes.html
CLASS:PUBLIC
END:VEVENT
END:VCALENDAR
