BEGIN:VCALENDAR
VERSION:2.0
CALSCALE:GREGORIAN
PRODID:-//Diputació de Barcelona//DibaCMS//EN
BEGIN:VEVENT
UID:6230
DTSTAMP:20260422T143936
DTSTART:20191201T093000
DTEND:20191201T093000
SUMMARY:33a Cursa de Cabanyes (Serralada de Marina)
LOCATION:
METHOD:PUBLISH
X-WR-CALNAME:ajuntament@santfost.cat
X-WR-TIMEZONE:Europe/Madrid
DESCRIPTION:
URI:https://www.santfost.cat/actualitat/agenda/33a-cursa-de-cabanyes-serralada-de-marina.html
CLASS:PUBLIC
END:VEVENT
END:VCALENDAR
